BEGIN:VCALENDAR
VERSION:2.0
PRODID:-//Parsons Corporation - ECPv6.15.13.1//NONSGML v1.0//EN
CALSCALE:GREGORIAN
METHOD:PUBLISH
X-WR-CALNAME:Parsons Corporation
X-ORIGINAL-URL:https://www.parsons.com
X-WR-CALDESC:Events for Parsons Corporation
REFRESH-INTERVAL;VALUE=DURATION:PT1H
X-Robots-Tag:noindex
X-PUBLISHED-TTL:PT1H
BEGIN:VTIMEZONE
TZID:America/New_York
BEGIN:DAYLIGHT
TZOFFSETFROM:-0500
TZOFFSETTO:-0400
TZNAME:EDT
DTSTART:20240310T070000
END:DAYLIGHT
BEGIN:STANDARD
TZOFFSETFROM:-0400
TZOFFSETTO:-0500
TZNAME:EST
DTSTART:20241103T060000
END:STANDARD
BEGIN:DAYLIGHT
TZOFFSETFROM:-0500
TZOFFSETTO:-0400
TZNAME:EDT
DTSTART:20250309T070000
END:DAYLIGHT
BEGIN:STANDARD
TZOFFSETFROM:-0400
TZOFFSETTO:-0500
TZNAME:EST
DTSTART:20251102T060000
END:STANDARD
BEGIN:DAYLIGHT
TZOFFSETFROM:-0500
TZOFFSETTO:-0400
TZNAME:EDT
DTSTART:20260308T070000
END:DAYLIGHT
BEGIN:STANDARD
TZOFFSETFROM:-0400
TZOFFSETTO:-0500
TZNAME:EST
DTSTART:20261101T060000
END:STANDARD
END:VTIMEZONE
BEGIN:VEVENT
DTSTART;TZID=America/New_York:20251103T080000
DTEND;TZID=America/New_York:20251105T170000
DTSTAMP:20260419T152614
CREATED:20251105T144436Z
LAST-MODIFIED:20251105T150028Z
UID:10000773-1762156800-1762362000@www.parsons.com
SUMMARY:ITS California Annual Meeting
DESCRIPTION:Overview\nWe are pleased to welcome you to the 30th Annual Intelligent Transportation Society of California (ITS CA) Conference and Exhibition at the Palm Springs Convention Center. Our mission and our theme to this year’s conference is Partnerships\, Fostering Development. We seek the advancement of intelligent transportation systems in California through collaboration among public agencies\, private organizations\, and academic institutions. \nConference & Exhibit Info\nThe 30th Annual Intelligent Transportation Society of California (ITS CA) Conference and Exhibition will be held November 3–5\, 2025\, at the Palm Springs Convention Center\, with the exhibit located at the Renaissance Palm Springs. This year’s theme\, Partnerships: Fostering Development\, reflects our mission to advance intelligent transportation systems across California through collaboration among public agencies\, private organizations\, and academic institutions. \nExhibit\nStop by and visit a Parsons Representative at our Booth! \nLearn More\nWe’ve not only imagined the future of transportation—we’ve realized it. As industry leaders\, we provide advanced traffic management systems (ATMS) and other intelligent transportation solutions (ITS). With over 100 cutting-edge global deployments\, our systems have connected more than 63\,000 devices. This includes more than 12\,000 traffic signals that monitor\, manage\, and control the efficiency and safety of the world’s roads. Learn more.
URL:https://www.parsons.com/event/its-california-annual-meeting/
LOCATION:Renaissance Palm Springs\, 888 E Tahquitz Canyon Way\, Palm Springs\, CA\, 92262\, United States
CATEGORIES:Rail and Transit,Road and Highway
ATTACH;FMTTYPE=image/webp:https://www.parsons.com/wp-content/uploads/2022/10/conference.webp
END:VEVENT
END:VCALENDAR