BEGIN:VCALENDAR
VERSION:2.0
PRODID:-//Parsons Corporation - ECPv6.15.13.1//NONSGML v1.0//EN
CALSCALE:GREGORIAN
METHOD:PUBLISH
X-WR-CALNAME:Parsons Corporation
X-ORIGINAL-URL:https://www.parsons.com
X-WR-CALDESC:Events for Parsons Corporation
REFRESH-INTERVAL;VALUE=DURATION:PT1H
X-Robots-Tag:noindex
X-PUBLISHED-TTL:PT1H
BEGIN:VTIMEZONE
TZID:America/Phoenix
BEGIN:STANDARD
TZOFFSETFROM:-0700
TZOFFSETTO:-0700
TZNAME:MST
DTSTART:20250101T000000
END:STANDARD
END:VTIMEZONE
BEGIN:VEVENT
DTSTART;VALUE=DATE:20260505
DTEND;VALUE=DATE:20260507
DTSTAMP:20260424T184314
CREATED:20260422T183007Z
LAST-MODIFIED:20260422T183007Z
UID:10000833-1777939200-1778111999@www.parsons.com
SUMMARY:Border Security Expo
DESCRIPTION:Overview\nThe Border Security Expo is the leading event dedicated to advancing border protection\, national security\, and mission-critical technologies. It brings together government leaders\, law enforcement\, military personnel\, and industry experts to address evolving security challenges and explore innovative solutions shaping the future of border operations. \nConference & Exhibit Info\nThis two-day event features expert-led sessions\, keynote discussions\, and an extensive exhibit hall with over 175 exhibitors showcasing the latest technologies in surveillance\, infrastructure\, and security systems. Attendees gain real-world insights into operational challenges\, procurement needs\, and emerging solutions supporting border and homeland security missions. \nExhibit\nStop by and visit a Parsons Representative in the Border Security Expo Exhibit Hall! \nMeet With Us\nFill out the form below to set up a meeting with us! \nPlease enable JavaScript in your browser to complete this form.First Name *Last Name *Email *Job Title *Company/Agency *Country *State *Phone NumberHow can we assist you? *I would like to learn more about Parsons products and offerings.I am interested in teaming with Parsons.I would like to present my company capabilities.Other (Please specify below).Anything Additional To Add?SubscribeYes\, subscribe me to our Innovation NewsletterEmailSubmit   \nLearn More\nWe’re helping defense and security clients stay ahead of evolving threats with innovative technologies\, data-driven insights\, and integrated solutions. Our teams work across the full mission lifecycle to enhance situational awareness\, improve decision-making\, and strengthen security outcomes. To learn more about our defense and security capabilities\, visit our website.
URL:https://www.parsons.com/event/border-security-expo/
LOCATION:Phoenix Convention Center\, 100 N 3rd St\, Phoenix\, AZ\, 85004\, United States
CATEGORIES:National Security
ATTACH;FMTTYPE=image/jpeg:https://www.parsons.com/wp-content/uploads/2022/07/events_category_images_conference15.jpg
END:VEVENT
END:VCALENDAR