BEGIN:VCALENDAR
VERSION:2.0
PRODID:-//Parsons Corporation - ECPv6.15.13.1//NONSGML v1.0//EN
CALSCALE:GREGORIAN
METHOD:PUBLISH
X-WR-CALNAME:Parsons Corporation
X-ORIGINAL-URL:https://www.parsons.com
X-WR-CALDESC:Events for Parsons Corporation
REFRESH-INTERVAL;VALUE=DURATION:PT1H
X-Robots-Tag:noindex
X-PUBLISHED-TTL:PT1H
BEGIN:VTIMEZONE
TZID:America/New_York
BEGIN:DAYLIGHT
TZOFFSETFROM:-0500
TZOFFSETTO:-0400
TZNAME:EDT
DTSTART:20240310T070000
END:DAYLIGHT
BEGIN:STANDARD
TZOFFSETFROM:-0400
TZOFFSETTO:-0500
TZNAME:EST
DTSTART:20241103T060000
END:STANDARD
BEGIN:DAYLIGHT
TZOFFSETFROM:-0500
TZOFFSETTO:-0400
TZNAME:EDT
DTSTART:20250309T070000
END:DAYLIGHT
BEGIN:STANDARD
TZOFFSETFROM:-0400
TZOFFSETTO:-0500
TZNAME:EST
DTSTART:20251102T060000
END:STANDARD
BEGIN:DAYLIGHT
TZOFFSETFROM:-0500
TZOFFSETTO:-0400
TZNAME:EDT
DTSTART:20260308T070000
END:DAYLIGHT
BEGIN:STANDARD
TZOFFSETFROM:-0400
TZOFFSETTO:-0500
TZNAME:EST
DTSTART:20261101T060000
END:STANDARD
END:VTIMEZONE
BEGIN:VEVENT
DTSTART;VALUE=DATE:20251201
DTEND;VALUE=DATE:20251204
DTSTAMP:20260419T235129
CREATED:20251113T213128Z
LAST-MODIFIED:20251113T213128Z
UID:10000777-1764547200-1764806399@www.parsons.com
SUMMARY:AFCEA Alamo ACE
DESCRIPTION:Overview\nAFCEA International is a nonpartisan\, member-based association that brings together government\, military\, industry\, and academia to accelerate solutions in security\, intelligence\, cyber\, and communications. We host events that are always free for military and government participants and coordinate closely with public affairs offices\, including the Pentagon\, to ensure full approval for participation. Neither AFCEA International nor the Alamo Chapter operates as a think tank or promotes proprietary or partisan positions. Instead\, we deliver education\, professional development\, and continuing education credits while building strong public–private partnerships that enhance global security. \nConference & Exhibit Info\nThe ACE is an annual event with a national draw. It supports the military community. We welcomed 4000+ attendees at the 2024 AACE. This year’s event will feature three flights of golf to be played on the prestigious Valero Open course. They will occur on Monday\, 1 December and Tuesday\, 2 December. These events support our Wounded Warrior and Military Families Endowment Fund. The ACE program will kick off on Wednesday\, 3 December with an expanded cybersecurity exposition format. The event includes two and a half days of esteemed keynote speakers and panels. There will be robust professional development and training\, STEM and robotics demonstrations\, acquisition updates (industry day)\, and a classified session. \nExhibit\nStop by and visit a Parsons Representative at our Booth! \nLearn More\nAs connectivity increases\, geopolitical conditions shift\, near-peer threats loom\, and technology advances\, we stand ready to help confront rapidly evolving security challenges in every domain—land\, sea\, air\, space\, and cyber. Parsons remains a trusted provider of engineering services\, logistics support\, and advanced technologies ranging from missile defense system integration to military facility modernization projects around the globe. Learn more.
URL:https://www.parsons.com/event/afcea-alamo-ace/
LOCATION:JW Marriott San Antonio Hill Country Resort and Spa\, 23808 Resort Parkway\, San Antonio\, TX\, United States
ATTACH;FMTTYPE=image/webp:https://www.parsons.com/wp-content/uploads/2022/10/conference.webp
END:VEVENT
END:VCALENDAR