BEGIN:VCALENDAR
VERSION:2.0
PRODID:-//Parsons Corporation - ECPv6.15.13.1//NONSGML v1.0//EN
CALSCALE:GREGORIAN
METHOD:PUBLISH
X-ORIGINAL-URL:https://www.parsons.com
X-WR-CALDESC:Events for Parsons Corporation
REFRESH-INTERVAL;VALUE=DURATION:PT1H
X-Robots-Tag:noindex
X-PUBLISHED-TTL:PT1H
BEGIN:VTIMEZONE
TZID:America/New_York
BEGIN:DAYLIGHT
TZOFFSETFROM:-0500
TZOFFSETTO:-0400
TZNAME:EDT
DTSTART:20250309T070000
END:DAYLIGHT
BEGIN:STANDARD
TZOFFSETFROM:-0400
TZOFFSETTO:-0500
TZNAME:EST
DTSTART:20251102T060000
END:STANDARD
BEGIN:DAYLIGHT
TZOFFSETFROM:-0500
TZOFFSETTO:-0400
TZNAME:EDT
DTSTART:20260308T070000
END:DAYLIGHT
BEGIN:STANDARD
TZOFFSETFROM:-0400
TZOFFSETTO:-0500
TZNAME:EST
DTSTART:20261101T060000
END:STANDARD
BEGIN:DAYLIGHT
TZOFFSETFROM:-0500
TZOFFSETTO:-0400
TZNAME:EDT
DTSTART:20270314T070000
END:DAYLIGHT
BEGIN:STANDARD
TZOFFSETFROM:-0400
TZOFFSETTO:-0500
TZNAME:EST
DTSTART:20271107T060000
END:STANDARD
END:VTIMEZONE
BEGIN:VEVENT
DTSTART;VALUE=DATE:20260427
DTEND;VALUE=DATE:20260502
DTSTAMP:20260423T091548
CREATED:20250217T224400Z
LAST-MODIFIED:20260114T163028Z
UID:10000712-1777248000-1777679999@www.parsons.com
SUMMARY:Training | CASO II Online (5 Days)  | April 2026 | Gov. Only
DESCRIPTION:Overview\nThe CASO™ II Course trains CASO graduates to efficiently target big data\, extract critical information\, and create clear reports across multiple fields. This CASO online training equips users to work independently or in teams in dynamic settings\, enabling them to deliver actionable insights for decision makers. \nCourse Dates\n\nApril 27 – May 1\, 2026\nNovember 16 – 20\, 2026\n\nAdditional Courses\nThis course provides the next level in the CASO curriculum. To continue to enable your team to be the most capable possible\, we offer other trainings that pair perfectly with the knowledge that CASO brings: \n\nCommercial Signature Reduction (CSR) – advanced commercial best practices for digital data protection techniques to facilitate safe virtual on-line operations.\nCASO Specialty Dark Web Immersion – 5-day course designed to provide a foundational and advanced understanding of how to conduct research on the dark web while maintaining safety and anonymity during online operations.\n\nCASO is USG only\, so contractors would not be able to take the course unless sponsored and paid for by a US government customer. \nAdditional details for each option provided upon request at TOGTraining.parsons@parsons.us. \nLearn More\nTo view all of our available training opportunities\, please visit our training and readiness webpage.
URL:https://www.parsons.com/event/caso-ii-april/
LOCATION:Online
CATEGORIES:Cyber and Intelligence,National Security
ATTACH;FMTTYPE=image/jpeg:https://www.parsons.com/wp-content/uploads/2022/07/events_category_images_training.jpg
END:VEVENT
BEGIN:VEVENT
DTSTART;VALUE=DATE:20260507
DTEND;VALUE=DATE:20260508
DTSTAMP:20260423T091548
CREATED:20250217T231722Z
LAST-MODIFIED:20251210T174420Z
UID:10000717-1778112000-1778198399@www.parsons.com
SUMMARY:Training | Dark Web Seminar Online (1 Day) | May 2026
DESCRIPTION:Seminar Overview\nParsons Technical Operations Group’s Dark Web Seminar is designed to provide a foundational and advanced understanding of the levels of the internet and digital identity on the dark web. Attendees will work through downloading Tor to conducting research and navigating the dark web. This seminar will help you gain an understanding of dark web tradecraft which can be used to uncover risks to you\, your organization\, or your assets. \nDark Web Seminar: Quick Facts\n– 8-hour Hands-on Training Seminar\n– Gain an understanding of dark web tradecraft\n– Conduct effective research on the dark web using a variety of tools and methods\n– Detailed case studies\n– Get hands-on with Tor\n– Explore dark web access methods such as TAILS and Whonix \nCourse Dates\n\nMay 7\, 2026\nNovember 9\, 2026\n\nRegistration\nWe offer the option to join an open enrollment course\, or to create a contracted\, dedicated course to meet your organization’s mission. For contracted training and price quotes please send all inquiries to Togtraining.parsons@parsons.us. \nLearn More\nTo view all of our available training opportunities\, please visit our training and readiness webpage.
URL:https://www.parsons.com/event/dark-web-seminar-online-may/
LOCATION:Online
CATEGORIES:Cyber and Intelligence
ATTACH;FMTTYPE=image/jpeg:https://www.parsons.com/wp-content/uploads/2022/07/events_category_images_training.jpg
END:VEVENT
BEGIN:VEVENT
DTSTART;VALUE=DATE:20260511
DTEND;VALUE=DATE:20260523
DTSTAMP:20260423T091548
CREATED:20250217T222618Z
LAST-MODIFIED:20260114T164209Z
UID:10000710-1778457600-1779494399@www.parsons.com
SUMMARY:Training | CASO In-Person (10 Days) | May 2026 | Gov. Only
DESCRIPTION:Overview\nCASO™ instruction by Parsons Technical Operation Group delivers focused training in open-source research\, teaching participants to safely leverage publicly available information (PAI) through advanced\, secure research techniques. \nThis ten-day course teaches teams the skills needed to navigate and use the digital landscape to gain an informational advantage. Students conduct iterative assessments of their digital footprint while safely discovering\, synthesizing\, and analyzing PAI data. PAI research helps to identify risks to personnel\, reputation\, assets\, and supply chains. Available online or in person\, the course features secure digital research\, iterative footprint assessments\, and open-source research methods. Content can be customized to client needs\, ensuring relevant and actionable insights are effectively reported. \nDelivery\nOur In-person CASO course can be taken during a scheduled open enrollment session or can be taught by our Mobile Training Team (MTT) at your location. While open enrollment offers an excellent online live learning environment\, Parsons provides a range of distinctive Programs of Instruction (POIs). We believe that in-person training\, whether conducted at our facilities or at the client’s site\, delivers optimal value to our customers. A contracted course tailored to your specific needs and mission requirements (Intel\, IO\, IBM\, Targeting\, Due Diligence\, IDM\, CI/HUMINT\, Civil Reconnaissance) provides the most modularity and the customer direct input into their proposed training program they would like for us to create. \nIn-Person Learning\nParsons’ TOG has developed a unique\, secure instructional platform utilizing US Government-approved encrypted solutions through Office 365 applications which are Tier C compliant. This broad set of global compliance and data protection requirements includes ISO 27001\, ISO 27018\, EUMC\, SOC 1 Type I & II\, SOC 2 Type I and II\, HIPAA and FERPA. The CASO training platform integrates multi-factor authentication and advanced information assurance controls\, adhering to industry best practices. With only a basic internet connection and a student computer\, the platform enables seamless\, high-impact training experiences while ensuring the highest levels of protection for all training sessions. \nCASO provides best-in-class certification standards to understand and exploit publicly available information (PAI) using advanced and safe research techniques for actionable insights and decision making. \nOur range of courses can be purchased a variety of different ways\, including Open Enrollment for individual students. This course is for government only. \nWe offer the option to join an open enrollment course\, or to create a contracted\, dedicated course to meet your organization’s customized operational requirements. For contracted training\, price quotes and open enrollment\, please send all inquiries to: Togtraining.parsons@parsons.us. \nCourse Dates\n\nMay 11 – 22\, 2026 (Augusta\, GA)\nSeptember 7 – 18\, 2026 (Herndon\, VA)\n\nCASO is USG only\, so contractors would not be able to take the course unless sponsored and paid for by a US government customer.
URL:https://www.parsons.com/event/caso-in-person-may/
LOCATION:Augusta\, Augusta\, Georgia
CATEGORIES:Cyber and Intelligence
ATTACH;FMTTYPE=image/jpeg:https://www.parsons.com/wp-content/uploads/2022/07/events_category_images_training.jpg
END:VEVENT
END:VCALENDAR