BEGIN:VCALENDAR
VERSION:2.0
PRODID:-//Parsons Corporation - ECPv6.15.13.1//NONSGML v1.0//EN
CALSCALE:GREGORIAN
METHOD:PUBLISH
X-WR-CALNAME:Parsons Corporation
X-ORIGINAL-URL:https://www.parsons.com
X-WR-CALDESC:Events for Parsons Corporation
REFRESH-INTERVAL;VALUE=DURATION:PT1H
X-Robots-Tag:noindex
X-PUBLISHED-TTL:PT1H
BEGIN:VTIMEZONE
TZID:America/New_York
BEGIN:DAYLIGHT
TZOFFSETFROM:-0500
TZOFFSETTO:-0400
TZNAME:EDT
DTSTART:20250309T070000
END:DAYLIGHT
BEGIN:STANDARD
TZOFFSETFROM:-0400
TZOFFSETTO:-0500
TZNAME:EST
DTSTART:20251102T060000
END:STANDARD
BEGIN:DAYLIGHT
TZOFFSETFROM:-0500
TZOFFSETTO:-0400
TZNAME:EDT
DTSTART:20260308T070000
END:DAYLIGHT
BEGIN:STANDARD
TZOFFSETFROM:-0400
TZOFFSETTO:-0500
TZNAME:EST
DTSTART:20261101T060000
END:STANDARD
BEGIN:DAYLIGHT
TZOFFSETFROM:-0500
TZOFFSETTO:-0400
TZNAME:EDT
DTSTART:20270314T070000
END:DAYLIGHT
BEGIN:STANDARD
TZOFFSETFROM:-0400
TZOFFSETTO:-0500
TZNAME:EST
DTSTART:20271107T060000
END:STANDARD
END:VTIMEZONE
BEGIN:VEVENT
DTSTART;VALUE=DATE:20260609
DTEND;VALUE=DATE:20260613
DTSTAMP:20260425T121016
CREATED:20260424T173344Z
LAST-MODIFIED:20260424T174059Z
UID:10000836-1780963200-1781308799@www.parsons.com
SUMMARY:ITS America Conference & Expo
DESCRIPTION:Overview\nThe ITS America Conference & Expo brings together transportation leaders\, policymakers\, and technology innovators from across the public and private sectors. The event focuses on advancing intelligent transportation systems and accelerating the adoption of technologies that create safer\, smarter\, and more connected mobility networks. \nConference & Exhibit Info\nThis multi-day conference features over 100 sessions\, networking opportunities\, and a large exhibit hall showcasing cutting-edge transportation technologies and solutions. Attendees explore innovations in connected and automated vehicles\, traffic management\, digital infrastructure\, and data-driven mobility systems. \nExhibit\nStop by and visit a Parsons Representative in the ITS America Conference & Expo Exhibit Hall! \nMeet With Us\nFill out the form below to set up a meeting with us! \nPlease enable JavaScript in your browser to complete this form.First Name *Last Name *Email *Job Title *Company/Agency *Country *State *Phone NumberHow can we assist you? *I would like to learn more about Parsons products and offerings.I am interested in teaming with Parsons.I would like to present my company capabilities.Other (Please specify below).Anything Additional To Add?SubscribeYes\, subscribe me to our Innovation NewsletterMessageSubmit   \nLearn More\nWe’re helping transportation agencies and infrastructure partners advance mobility through innovative technologies\, data-driven insights\, and integrated solutions. Our teams work across the full project lifecycle to deliver safer\, more efficient\, and connected transportation systems. To learn more about our transportation capabilities\, visit our website.
URL:https://www.parsons.com/event/its-america-conference-expo/
LOCATION:Huntington Place\, 1 Washington Boulevard\, Detroit\, Michigan\, 48226\, United States
CATEGORIES:Global Infrastructure
ATTACH;FMTTYPE=image/webp:https://www.parsons.com/wp-content/uploads/2022/10/conference.webp
END:VEVENT
BEGIN:VEVENT
DTSTART;VALUE=DATE:20260609
DTEND;VALUE=DATE:20260612
DTSTAMP:20260425T121016
CREATED:20260424T172400Z
LAST-MODIFIED:20260424T172400Z
UID:10000835-1780963200-1781222399@www.parsons.com
SUMMARY:AAMVA Region 1 Conference 2026
DESCRIPTION:Overview\nThe AAMVA Region 1 Conference 2026 brings together motor vehicle administrators\, law enforcement leaders\, and industry partners to collaborate on advancing transportation safety\, security\, and regulatory innovation. The conference provides a platform to share best practices\, strengthen partnerships\, and address evolving challenges across driver licensing and motor vehicle services. \nConference & Exhibit Info\nThis regional conference features educational sessions\, peer-to-peer discussions\, and networking opportunities with key decision-makers from across the U.S. and Canada. Attendees explore topics such as identity management\, fraud prevention\, digital credentialing\, and system modernization\, while engaging with industry partners in the exhibit hall. \nExhibit\nStop by and visit a Parsons Representative in the AAMVA Region 1 Exhibit Hall! \nMeet With Us\nFill out the form below to set up a meeting with us! \n \nLearn More\nWe’re helping transportation agencies strengthen security\, improve efficiency\, and deliver better services through innovative technologies and data-driven solutions. Our teams work collaboratively to support modernization efforts and enhance the reliability of critical systems. To learn more about our transportation capabilities\, visit our website.
URL:https://www.parsons.com/event/aamva-region-1-conference-2026/
LOCATION:Lancaster Marriott at Penn Square\, 25 S Queen Street\, Lancaster\, PA\, 17603\, United States
CATEGORIES:Global Infrastructure
ATTACH;FMTTYPE=image/webp:https://www.parsons.com/wp-content/uploads/2022/10/conference.webp
END:VEVENT
END:VCALENDAR