BEGIN:VCALENDAR
VERSION:2.0
PRODID:-//Parsons Corporation - ECPv6.15.13.1//NONSGML v1.0//EN
CALSCALE:GREGORIAN
METHOD:PUBLISH
X-WR-CALNAME:Parsons Corporation
X-ORIGINAL-URL:https://www.parsons.com
X-WR-CALDESC:Events for Parsons Corporation
REFRESH-INTERVAL;VALUE=DURATION:PT1H
X-Robots-Tag:noindex
X-PUBLISHED-TTL:PT1H
BEGIN:VTIMEZONE
TZID:America/New_York
BEGIN:DAYLIGHT
TZOFFSETFROM:-0500
TZOFFSETTO:-0400
TZNAME:EDT
DTSTART:20250309T070000
END:DAYLIGHT
BEGIN:STANDARD
TZOFFSETFROM:-0400
TZOFFSETTO:-0500
TZNAME:EST
DTSTART:20251102T060000
END:STANDARD
BEGIN:DAYLIGHT
TZOFFSETFROM:-0500
TZOFFSETTO:-0400
TZNAME:EDT
DTSTART:20260308T070000
END:DAYLIGHT
BEGIN:STANDARD
TZOFFSETFROM:-0400
TZOFFSETTO:-0500
TZNAME:EST
DTSTART:20261101T060000
END:STANDARD
BEGIN:DAYLIGHT
TZOFFSETFROM:-0500
TZOFFSETTO:-0400
TZNAME:EDT
DTSTART:20270314T070000
END:DAYLIGHT
BEGIN:STANDARD
TZOFFSETFROM:-0400
TZOFFSETTO:-0500
TZNAME:EST
DTSTART:20271107T060000
END:STANDARD
END:VTIMEZONE
BEGIN:VEVENT
DTSTART;VALUE=DATE:20261005
DTEND;VALUE=DATE:20261010
DTSTAMP:20260419T115247
CREATED:20251217T225146Z
LAST-MODIFIED:20260126T175804Z
UID:10000796-1791158400-1791590399@www.parsons.com
SUMMARY:Training | CSR In-Person (5 Days) | Oct. 2026 | Gov. Only
DESCRIPTION:Overview\nCommercial Signature Reduction (CSR) focuses on advanced commercial best practices for digital data protection techniques\, enabling safe virtual online operations. The training equips students with skills to meet Electronic Security (ES)\, Signature Reduction (SIGREDUX)\, Digital Identity Management (D-IDM)\, and Digital Operational Preparation of the Environment (D-OPE) requirements. CSR In-Person training provides an opportunity for students to engage in hands-on practical scenarios\, instruction on various methods\, techniques\, and tradecraft. The focus is on learning new skills rather than the technology or tools. The training program has proven successful in creative problem-solving\, reducing digital exposure\, and honing SIGREDUX skills. \nCSR Framework and Skills Taught\nStudents learn a comprehensive SIGREDUX methodology\, using various tools and applications to protect personal\, professional\, and operational information. Training includes cutting-edge technologies such as open-source programmable routers\, virtualized secure platforms\, and anonymous data delivery methods. \nCourse Dates\n\nMarch 2 – 6\, 2026 (Augusta\, GA)\nOctober 5 – 9\, 2026 (Herndon\, VA)\n\nRegistration\nWe offer the option to join an open enrollment course\, or to create a contracted\, dedicated course to meet your organization’s customized operational requirements. For contracted training and price quotes please send all inquiries to: Togtraining.parsons@parsons.us. \nCASO is USG only\, so contractors would not be able to take the course unless sponsored and paid for by a US government customer. \nLearn More\nTo view all of our available training opportunities\, please visit our training and readiness webpage.
URL:https://www.parsons.com/event/training-csr-in-person-5-days-oct-2026/
LOCATION:Parsons Herndon\, VA Office\, 13461 Sunrise Valley Dr.\, Herndon\, VA\, 20171\, United States
CATEGORIES:Cyber and Intelligence,National Security
ATTACH;FMTTYPE=image/jpeg:https://www.parsons.com/wp-content/uploads/2022/07/events_category_images_training.jpg
END:VEVENT
BEGIN:VEVENT
DTSTART;VALUE=DATE:20261012
DTEND;VALUE=DATE:20261015
DTSTAMP:20260419T115247
CREATED:20251230T232116Z
LAST-MODIFIED:20260105T141726Z
UID:10000803-1791763200-1792022399@www.parsons.com
SUMMARY:AUSA 2026 Annual Meeting And Exposition
DESCRIPTION:Overview\nJoin Parsons at AUSA October 12-14\, 2026 to learn about how we are transforming the battlespace! \nConference & Exhibit Info\nThe Association of the United States Army (AUSA) Annual Meeting & Exposition is the premier land power exposition and professional development forum in North America—and the must-attend event for anyone involved in the defense sector. With over 44\,000 attendees\, 750+ exhibits\, and representation from 92 countries\, this three-day event is where the global defense community converges to shape the future of national security. \nHeld in the heart of the nation’s capital\, the AUSA Annual Meeting is more than just a trade show—it’s a strategic platform that connects military leaders\, industry innovators\, policymakers\, and international delegations. Attendees gain exclusive insights into U.S. Army priorities\, explore cutting-edge technologies\, and engage in high-impact networking with key decision-makers. \nExhibit\nVisit us at our booth\, where we will showcase our cutting-edge capabilities designed to support the U.S. Army’s modernization priorities. Our featured solutions include: \n\nAdvancements In Artificial Intelligence and Machine Learning (AI/ML)\nCyber and Intelligence Operations\nDigital Engineering Through PDEF and DYSE\nMulti-Domain Operations\nSystems Engineering\nElectronic Warfare (TReX)\nIdentity Management and Biometrics\nCounter Unmanned Aircraft Systems\nAssured Positioning\, Navigation\, and Timing (APNT)\n\nMeet With Us\nJoin us to explore how Parsons is driving mission success through innovation and technology. \nPlease enable JavaScript in your browser to complete this form.First Name *Last Name *Email *Job Title *Company/Agency *Country *State *Phone NumberHow can we assist you? *I would like to learn more about Parsons products and offerings.I am interested in teaming with Parsons.I would like to present my company capabilities.Other (Please specify below).Anything Additional To Add?SubscribeYes\, subscribe me to our Innovation NewsletterMessageSubmit  \nLearn More\nAs connectivity increases\, geopolitical conditions shift\, near-peer threats loom\, and technology advances\, we stand ready to help our nation confront rapidly evolving security challenges in every domain—land\, sea\, air\, space\, and cyber. Parsons remains a trusted provider of engineering services\, logistics support\, and advanced technologies ranging from missile defense system integration to military facility modernization projects around the globe. Learn more about how we are transforming the battlespace here. 
URL:https://www.parsons.com/event/ausa-2026-annual-meeting-and-exposition/
LOCATION:Walter E. Washington Convention Center\, 801 Mt Vernon Pl NW\, Washington\, DC\, 20001\, United States
CATEGORIES:Artificial Intelligence,Cyber and Intelligence,National Security,Supplier
ATTACH;FMTTYPE=image/webp:https://www.parsons.com/wp-content/uploads/2022/10/conference.webp
END:VEVENT
BEGIN:VEVENT
DTSTART;VALUE=DATE:20261019
DTEND;VALUE=DATE:20261031
DTSTAMP:20260419T115247
CREATED:20251217T223436Z
LAST-MODIFIED:20260114T162013Z
UID:10000793-1792368000-1793404799@www.parsons.com
SUMMARY:Training | CASO Certification Online (10 Days) | Oct. 2026 | Gov. Only
DESCRIPTION:Overview\nCASO™ instruction by Parsons Technical Operation Group delivers focused training in open-source research\, teaching participants to safely leverage publicly available information (PAI) through advanced\, secure research techniques. \nDelivery\nThis ten-day course teaches teams the skills needed to navigate and use the digital landscape to gain an informational advantage. Students conduct iterative assessments of their digital footprint while safely discovering\, synthesizing\, and analyzing PAI data. PAI research helps to identify risks to personnel\, reputation\, assets\, and supply chains. Available online or in person\, the course features secure digital research\, iterative footprint assessments\, and open-source research methods. Content can be customized to client needs\, ensuring relevant and actionable insights are effectively reported. \nDistance Live Online Learning\nOur CASO course can be taken Online during a scheduled open enrollment session or can be taught by our Mobile Training Team (MTT) at your location or in person at one of our state-of-the-art classrooms located in Herndon\, VA\, or Fayetteville\, NC. While open enrollment offers an excellent online live learning environment\, Parsons provides a range of distinctive Programs of Instruction (POIs). We believe that in-person training\, whether conducted at our facilities or at the client’s site\, delivers optimal value to our customers. A contracted course tailored to your specific needs and mission requirements (Intel\, IO\, IBM\, Targeting\, Due Diligence\, IDM\, CI/HUMINT\, Civil Reconnaissance) provides the most modularity and the customer direct input into their proposed training program they would like for us to create. \nCourse Dates\n\nFebruary 2 – 13\, 2026\nApril 6 – 17\, 2026\nAugust 10 – 21\, 2026\nOctober 19 – 30\, 2026\n\nRegistration\nWe offer the option to join an open enrollment course\, or to create a contracted\, dedicated course to meet your organization’s customized operational requirements. For contracted training\, price quotes and open enrollment\, please send all inquiries to: Togtraining.parsons@parsons.us. \nCASO is USG only\, so contractors would not be able to take the course unless sponsored and paid for by a US government customer. \nLearn More\nTo view all of our available training opportunities\, please visit our training and readiness webpage.
URL:https://www.parsons.com/event/training-caso-certification-online-10-days-oct-2026/
LOCATION:Online
CATEGORIES:Cyber and Intelligence
ATTACH;FMTTYPE=image/jpeg:https://www.parsons.com/wp-content/uploads/2022/07/events_category_images_training.jpg
END:VEVENT
BEGIN:VEVENT
DTSTART;VALUE=DATE:20261024
DTEND;VALUE=DATE:20261028
DTSTAMP:20260419T115247
CREATED:20260102T211453Z
LAST-MODIFIED:20260105T144042Z
UID:10000811-1792800000-1793145599@www.parsons.com
SUMMARY:International Association of Chiefs of Police Annual Conference (IACP)
DESCRIPTION:Overview\nJoin us for the IACP Annual Conference\, October 24–27 in Orlando\, Florida. Hosted by the International Association of Chiefs of Police\, this premier law enforcement conference brings together public safety leaders\, government partners\, and industry experts to address today’s most pressing challenges in policing\, security\, and community protection. The event serves as a collaborative forum for sharing best practices\, advancing innovation\, and strengthening public safety missions nationwide. \nConference & Exhibit Info\nThe conference features a robust program of keynote sessions\, educational workshops\, and professional forums focused on law enforcement leadership\, emerging technologies\, officer safety\, and operational effectiveness. Attendees can also explore the exhibit hall\, where organizations showcase advanced tools\, systems\, and solutions designed to support modern policing and public safety operations. \nExhibit\nStop by and visit a Parsons representative in the Orange County Convention Center Exhibit Hall at our booth! \nMeet With Us\nJoin us to explore how Parsons is driving mission success through innovation and technology. \nPlease enable JavaScript in your browser to complete this form.First Name *Last Name *Email *Job Title *Company/Agency *Country *State *Phone NumberHow can we assist you? *I would like to learn more about Parsons products and offerings.I am interested in teaming with Parsons.I would like to present my company capabilities.Other (Please specify below).Anything Additional To Add?SubscribeYes\, subscribe me to our Innovation NewsletterWebsiteSubmit  \nLearn More\n\n\n\n\n\n\n\n\n\nWe proudly support public safety missions by delivering secure\, resilient\, and mission-focused solutions that enhance operational effectiveness and decision-making. Through collaboration with government and industry partners\, we help strengthen public safety capabilities\, protect critical systems\, and support safer communities. Learn more.
URL:https://www.parsons.com/event/international-association-of-chiefs-of-police-annual-conference-iacp/
LOCATION:Orange County Convention Center\, 9800 International Drive\, Orlando\, FL\, 23819\, United States
CATEGORIES:Cyber and Intelligence,Federal Infrastructure Solutions,National Security
ATTACH;FMTTYPE=image/webp:https://www.parsons.com/wp-content/uploads/2022/10/conference.webp
END:VEVENT
END:VCALENDAR