BEGIN:VCALENDAR
VERSION:2.0
PRODID:-//Parsons Corporation - ECPv6.15.13.1//NONSGML v1.0//EN
CALSCALE:GREGORIAN
METHOD:PUBLISH
X-WR-CALNAME:Parsons Corporation
X-ORIGINAL-URL:https://www.parsons.com
X-WR-CALDESC:Events for Parsons Corporation
REFRESH-INTERVAL;VALUE=DURATION:PT1H
X-Robots-Tag:noindex
X-PUBLISHED-TTL:PT1H
BEGIN:VTIMEZONE
TZID:Europe/Paris
BEGIN:DAYLIGHT
TZOFFSETFROM:+0100
TZOFFSETTO:+0200
TZNAME:CEST
DTSTART:20250330T010000
END:DAYLIGHT
BEGIN:STANDARD
TZOFFSETFROM:+0200
TZOFFSETTO:+0100
TZNAME:CET
DTSTART:20251026T010000
END:STANDARD
BEGIN:DAYLIGHT
TZOFFSETFROM:+0100
TZOFFSETTO:+0200
TZNAME:CEST
DTSTART:20260329T010000
END:DAYLIGHT
BEGIN:STANDARD
TZOFFSETFROM:+0200
TZOFFSETTO:+0100
TZNAME:CET
DTSTART:20261025T010000
END:STANDARD
BEGIN:DAYLIGHT
TZOFFSETFROM:+0100
TZOFFSETTO:+0200
TZNAME:CEST
DTSTART:20270328T010000
END:DAYLIGHT
BEGIN:STANDARD
TZOFFSETFROM:+0200
TZOFFSETTO:+0100
TZNAME:CET
DTSTART:20271031T010000
END:STANDARD
END:VTIMEZONE
BEGIN:VTIMEZONE
TZID:America/New_York
BEGIN:DAYLIGHT
TZOFFSETFROM:-0500
TZOFFSETTO:-0400
TZNAME:EDT
DTSTART:20250309T070000
END:DAYLIGHT
BEGIN:STANDARD
TZOFFSETFROM:-0400
TZOFFSETTO:-0500
TZNAME:EST
DTSTART:20251102T060000
END:STANDARD
BEGIN:DAYLIGHT
TZOFFSETFROM:-0500
TZOFFSETTO:-0400
TZNAME:EDT
DTSTART:20260308T070000
END:DAYLIGHT
BEGIN:STANDARD
TZOFFSETFROM:-0400
TZOFFSETTO:-0500
TZNAME:EST
DTSTART:20261101T060000
END:STANDARD
BEGIN:DAYLIGHT
TZOFFSETFROM:-0500
TZOFFSETTO:-0400
TZNAME:EDT
DTSTART:20270314T070000
END:DAYLIGHT
BEGIN:STANDARD
TZOFFSETFROM:-0400
TZOFFSETTO:-0500
TZNAME:EST
DTSTART:20271107T060000
END:STANDARD
END:VTIMEZONE
BEGIN:VEVENT
DTSTART;VALUE=DATE:20260309
DTEND;VALUE=DATE:20260314
DTSTAMP:20260425T142628
CREATED:20260224T142034Z
LAST-MODIFIED:20260302T195824Z
UID:10000820-1773014400-1773446399@www.parsons.com
SUMMARY:MIPIM 2026
DESCRIPTION:Overview\nJoin us at MIPIIM from the 9-13 of March at Palais des Festivals\, Cannes\, France\, where we will be sponsoring the Middle East Focus Session. Don’t miss the opportunity to engage with our experts and join the conversation on Saudi Arabia’s Vision 2030 for branded residences and hotels with Costas Livadaris. This year’s event marks a highlight for MIPIM 2026\, setting the stage for future industry engagement. \nConference & Exhibit Info\nMIPIM empowers you to expand your business and enhance your global reputation by fostering connections with international and local partners before\, during\, and after the event\, creating extensive opportunities worldwide. Looking forward\, MIPIM 2026 will offer even more expansive opportunities for attendees and exhibitors. \nMeet With Us\nFill out the form below to set up a meeting with us! We encourage early scheduling for MIPIM 2026 to maximize your opportunities. \nPlease enable JavaScript in your browser to complete this form.First Name *Last Name *Email *Job Title *Company/Agency *Country *State *Phone NumberHow can we assist you? *I would like to learn more about Parsons products and offerings.I am interested in teaming with Parsons.I would like to present my company capabilities.Other (Please specify below).Anything Additional To Add?SubscribeYes\, subscribe me to our Innovation NewsletterWebsiteSubmit   \nLearn More\nLooking ahead\, we’re strengthening partnerships and driving growth across the EMEA region through global collaboration and innovation. At MIPIM\, industry leaders from across Europe\, the Middle East\, and Africa come together to exchange insights\, explore investment opportunities\, and shape the future of urban development. To learn more about our work across EMEA and how we’re supporting resilient\, forward-thinking communities\, visit our website.
URL:https://www.parsons.com/event/conference-mipim-2026/
LOCATION:Palace of Festivals and Congresses of Cannes\, 1 Boulevard de la Croisette\, Cannes\, 06400\, France
CATEGORIES:EMEA (Europe, Middle East & Africa)
ATTACH;FMTTYPE=image/jpeg:https://www.parsons.com/wp-content/uploads/2026/02/MIPIM-2026-Attendance-Card_Draft-2.jpg
END:VEVENT
BEGIN:VEVENT
DTSTART;TZID=America/New_York:20260311T123000
DTEND;TZID=America/New_York:20260311T133000
DTSTAMP:20260425T142628
CREATED:20260302T221109Z
LAST-MODIFIED:20260302T233703Z
UID:10000821-1773232200-1773235800@www.parsons.com
SUMMARY:Webinar | Residual NAPL And PAH Remediation
DESCRIPTION:Join us on March 11\, 2026 for a technical webinar regarding Residual NAPL And PAH Remediation: The Critical Role of Pre-Design Investigations\, Treatability Testing\, and Pilot Testing \nBackground/Objectives\nPre-design investigations (PDIs)\, bench-scale treatability testing\, and pilot testing are critical for reducing uncertainty prior to remedial design. At a former creosoting facility Superfund site\, in situ chemical oxidation (ISCO) was identified as the primary selected remedy. The objective of the presented work was to refine the conceptual site model (CSM) and evaluate cost-effective\, feasible solutions through pre-design investigation and treatability testing to inform future pilot testing and full-scale design. \nApproach/Activities\nThe 2025 PDI integrated TarGOST® laser-induced fluorescence\, hydraulic profiling\, soil borings\, and groundwater sampling to characterize non-aqueous phase liquid\, soil\, and groundwater impacts at the site. Bench-scale treatability testing was used to evaluate persulfate-based ISCO within two distinct lithologies\, silty clays and weathered limestone\, to assess oxidant demand\, treatment effectiveness\, and zone-specific delivery feasibility. \nResults/Lessons Learned\nThe PDI results refined the CSM\, identifying more significant impacts in a weathered carbonate bedrock than previously understood. Treatability testing of ISCO demonstrated substantial reductions in polycyclic aromatic hydrocarbons (PAHs) in mixed silty clays\, whereas limited PAH destruction and a high natural persulfate oxidant demand were measured in weathered limestone. A second testing phase is evaluating enhanced anaerobic bioremediation for the limestone. The second phase was informed by a successful application of sulfate at a different Superfund site treating PAHs. These findings highlight that PDI and bench-scale testing can prevent high-cost errors\, leading to data-driven\nremediation designs. \nPresenters\nClaire Harris\, PG\, Claire is a Senior Hydrogeologist with more than seven years of experience supporting site characterization and risk-based remediation. \nGlenn Ulrich\, PhD\, Glenn is a technical director specializing in contaminant fate and transport\, the sustainable remediation of contaminants and methane\, and technology development. \nTo Join The Webinar\nJoin on your computer\, mobile app or room device: Click here to join the meeting. \nPhone Conference ID: 279 843 247 079 51\nPasscode: st7N4sW7 \nPlease visit the Parsons YouTube channel where video recordings of our previous\ntechnical webinars are available for viewing.
URL:https://www.parsons.com/event/webinar-residual-napl-and-pah-remediation/
LOCATION:Online
CATEGORIES:Environmental
ATTACH;FMTTYPE=image/jpeg:https://www.parsons.com/wp-content/uploads/2022/02/events_category_images_webinar24.jpg
END:VEVENT
BEGIN:VEVENT
DTSTART;VALUE=DATE:20260326
DTEND;VALUE=DATE:20260330
DTSTAMP:20260425T142628
CREATED:20260318T171158Z
LAST-MODIFIED:20260318T175155Z
UID:10000823-1774483200-1774828799@www.parsons.com
SUMMARY:Western Winter Workshop™
DESCRIPTION:Overview\nJoin us for the 2026 Western Winter Workshop™ in Napa Valley\, CA on March 26-29. \nWestern Winter Workshop ™ is an industry event that brings together capital program organizations\, executives\, consultants\, contractors\, innovators\, and technology solution professionals who share the common goal of driving successful project delivery. This year’s event includes two days of capital program panel discussions and technical presentations showcasing the very latest in program management\, project controls and construction management tools and techniques. \nThe Workshop provides a unique opportunity to network with key decision-makers for major capital project delivery organizations as well as owners\, executives\, managers\, engineers\, and many other industry professionals. \nConnect with our team on site to learn more about our digital delivery\, program management\, project controls\, and broader global infrastructure capabilities. \nSpeaker & Exhibitor Info\nThe Art of Building Smarter: Turning Mega Program Chaos into Coordinated Progress \nFriday\, 9:35 AM – 10:20 AM | Kahua Carneros Ballroom  \n· Moderator: Nicholas Johnson\, Kahua \n· Terri Mestas\, Sound Transit \n· Rich Miesemer\, Parsons \n· Cari Stieglitz\, kvolve \n· Mike Marcell\, K2 \n  \nThe Evolution of Construction Technology: A Journey Toward Seamless Digital Delivery \nSaturday\, 8:35 AM – 9:25 AM | Procore Panels Room \n· Moderator: Richard Miesemer\, IT Program Manager\, Engineering & Construction\, Parsons \n· Peter Jauch\, Director of Engineering\, Southern Nevada Water Authority \n· Cherie Chenoweth\, Consultant for Facilities Business TK-12 Education\, San Juan Unified School District \n· Nicholas Johnson\, Chief Evangelist\, Kahua \n· Jodie Bare-Thompson\, Vice President\, Parsons \n  \nConstructing Careers: Building Sustainable Talent Pipelines \nSaturday\, 11 AM – 11:50 AM | Sponsored session | Parsons Gold Sponsor \n· Moderator: Jake Prince\, Principal Consultant\, Elevos \n· Katie Drake\, Deputy Executive Director\, Capital Delivery\, Transformation\, Sound Transit \n· Amy Imamura\, Director of Capital Program Outreach & Engagement\, Los Angeles World Airports \n· Ashley Morteboy\, Director of Project Controls\, Port of Long Beach \n· Julian Green\, Transmission Line Program Manager\, PG&E \nExhibit\nStop by booth 9 in the exhibit hall to learn more about our global infrastructure capabilities. \nLearn More\nFor 80 years\, our experts have designed and delivered the global infrastructure that connects and protects communities around the world. From envisioning megaprojects and creating international destinations to integrating smart cities and new urban districts\, we’re not only imagining the future of global infrastructure – we’re building it.
URL:https://www.parsons.com/event/western-winter-workshop/
LOCATION:The Meritage Resort and Spa\, 875 Bordeaux Way\, Napa\, FL\, 94558\, United States
CATEGORIES:Aviation,Global Infrastructure,Rail and Transit,Road and Highway,Water and Wastewater
ATTACH;FMTTYPE=image/webp:https://www.parsons.com/wp-content/uploads/2022/10/conference.webp
END:VEVENT
END:VCALENDAR