BEGIN:VCALENDAR
VERSION:2.0
PRODID:-//Parsons Corporation - ECPv6.15.13.1//NONSGML v1.0//EN
CALSCALE:GREGORIAN
METHOD:PUBLISH
X-ORIGINAL-URL:https://www.parsons.com
X-WR-CALDESC:Events for Parsons Corporation
REFRESH-INTERVAL;VALUE=DURATION:PT1H
X-Robots-Tag:noindex
X-PUBLISHED-TTL:PT1H
BEGIN:VTIMEZONE
TZID:America/New_York
BEGIN:DAYLIGHT
TZOFFSETFROM:-0500
TZOFFSETTO:-0400
TZNAME:EDT
DTSTART:20250309T070000
END:DAYLIGHT
BEGIN:STANDARD
TZOFFSETFROM:-0400
TZOFFSETTO:-0500
TZNAME:EST
DTSTART:20251102T060000
END:STANDARD
BEGIN:DAYLIGHT
TZOFFSETFROM:-0500
TZOFFSETTO:-0400
TZNAME:EDT
DTSTART:20260308T070000
END:DAYLIGHT
BEGIN:STANDARD
TZOFFSETFROM:-0400
TZOFFSETTO:-0500
TZNAME:EST
DTSTART:20261101T060000
END:STANDARD
BEGIN:DAYLIGHT
TZOFFSETFROM:-0500
TZOFFSETTO:-0400
TZNAME:EDT
DTSTART:20270314T070000
END:DAYLIGHT
BEGIN:STANDARD
TZOFFSETFROM:-0400
TZOFFSETTO:-0500
TZNAME:EST
DTSTART:20271107T060000
END:STANDARD
END:VTIMEZONE
BEGIN:VTIMEZONE
TZID:America/Denver
BEGIN:DAYLIGHT
TZOFFSETFROM:-0700
TZOFFSETTO:-0600
TZNAME:MDT
DTSTART:20250309T090000
END:DAYLIGHT
BEGIN:STANDARD
TZOFFSETFROM:-0600
TZOFFSETTO:-0700
TZNAME:MST
DTSTART:20251102T080000
END:STANDARD
BEGIN:DAYLIGHT
TZOFFSETFROM:-0700
TZOFFSETTO:-0600
TZNAME:MDT
DTSTART:20260308T090000
END:DAYLIGHT
BEGIN:STANDARD
TZOFFSETFROM:-0600
TZOFFSETTO:-0700
TZNAME:MST
DTSTART:20261101T080000
END:STANDARD
BEGIN:DAYLIGHT
TZOFFSETFROM:-0700
TZOFFSETTO:-0600
TZNAME:MDT
DTSTART:20270314T090000
END:DAYLIGHT
BEGIN:STANDARD
TZOFFSETFROM:-0600
TZOFFSETTO:-0700
TZNAME:MST
DTSTART:20271107T080000
END:STANDARD
END:VTIMEZONE
BEGIN:VEVENT
DTSTART;VALUE=DATE:20260127
DTEND;VALUE=DATE:20260128
DTSTAMP:20260421T065505
CREATED:20260102T213409Z
LAST-MODIFIED:20260105T144351Z
UID:10000813-1769472000-1769558399@www.parsons.com
SUMMARY:Global Spaceport Alliance GSA Space Summit
DESCRIPTION:Overview\nJoin us on January 27\, 2026\, for “Spaceports: Catalysts for Economic Growth”\, a premier gathering of global leaders\, policymakers\, investors\, and industry experts. Explore how spaceports are driving economic development\, shaping the future of transportation\, and creating opportunities for communities worldwide. \nConference & Exhibit Info\nThe GSA Spaceport Summit features expert-led sessions\, keynote presentations\, and collaborative panels focused on topics such as spaceport infrastructure\, global market trends\, launch operations\, regulatory updates\, and emerging technologies shaping the future of space access. Attendees also have opportunities for networking and engagement with organizations supporting the global spaceport ecosystem throughout Commercial Space Week. \nExhibit\nStop by and visit a Parsons representative in the Exhibit Area at the Orange County Convention Center at our booth! \nMeet With Us\nJoin us to explore how Parsons is driving mission success through innovation and technology. \nPlease enable JavaScript in your browser to complete this form.First Name *Last Name *Email *Job Title *Company/Agency *Country *State *Phone NumberHow can we assist you? *I would like to learn more about Parsons products and offerings.I am interested in teaming with Parsons.I would like to present my company capabilities.Other (Please specify below).Anything Additional To Add?SubscribeYes\, subscribe me to our Innovation NewsletterPhoneSubmit  \nLearn More\n\n\n\n\n\n\n\n\n\nWe proudly support the space sector by advancing resilient\, innovative solutions that strengthen infrastructure\, operational capabilities\, and collaborative partnerships across commercial and government space programs. Through deep engagement with mission partners\, industry leaders\, and technical experts\, we help drive sustainable growth in space access and launch infrastructure while enabling transformative capabilities that support national and economic priorities. Learn more.
URL:https://www.parsons.com/event/global-spaceport-alliance-gsa-space-summit/
LOCATION:Orange County Convention Center\, 9800 International Drive\, Orlando\, FL\, 23819\, United States
CATEGORIES:Artificial Intelligence,Global Infrastructure,National Security,Space and Geospatial
ATTACH;FMTTYPE=image/webp:https://www.parsons.com/wp-content/uploads/2022/10/conference.webp
END:VEVENT
BEGIN:VEVENT
DTSTART;VALUE=DATE:20260202
DTEND;VALUE=DATE:20260206
DTSTAMP:20260421T065505
CREATED:20260102T153817Z
LAST-MODIFIED:20260105T142322Z
UID:10000804-1769990400-1770335999@www.parsons.com
SUMMARY:AFCEA Rocky Mountain Cyber Symposium
DESCRIPTION:Overview\nJoin us for the Rocky Mountain Cyberspace Symposium 2026\, February 2–5\, at The Broadmoor Hotel in Colorado Springs. This premier event brings together leaders from government\, industry\, and academia to explore the evolving cyberspace landscape\, discuss emerging threats\, and share innovative solutions that support national security and mission readiness. \nConference & Exhibit Info\nThe conference features a robust agenda of keynote speakers\, technical sessions\, and panel discussions focused on cybersecurity\, cyberspace operations\, and digital resilience. The exhibit hall offers attendees the opportunity to connect with organizations showcasing advanced cyber technologies\, tools\, and capabilities while engaging directly with experts shaping the future of the cyber domain. \nExhibit\nStop by and visit a Parsons representative in the Rocky Mountain Cyberspace Symposium Exhibit Hall at our booth! \nMeet With Us\nPlease enable JavaScript in your browser to complete this form.First Name *Last Name *Email *Job Title *Company/Agency *Country *State *Phone NumberHow can we assist you? *I would like to learn more about Parsons products and offerings.I am interested in teaming with Parsons.I would like to present my company capabilities.Other (Please specify below).Anything Additional To Add?SubscribeYes\, subscribe me to our Innovation NewsletterWebsiteSubmit  \nLearn More\n\n\n\n\n\n\n\n\n\nWe proudly support cyberspace missions by advancing secure\, resilient\, and innovative cyber solutions that protect critical systems and enable operational success. Through collaboration\, expertise\, and technology-driven approaches\, we help strengthen cyber defenses\, enhance mission assurance\, and support the evolving needs of the national security community. Learn more.
URL:https://www.parsons.com/event/afcea-rocky-mountain-cyber-symposium/
LOCATION:The Broadmoor Hotel\, Colorado Springs\, CO
CATEGORIES:Cyber and Intelligence,Space and Geospatial
ATTACH;FMTTYPE=image/jpeg:https://www.parsons.com/wp-content/uploads/2022/07/events_category_images_conference15.jpg
END:VEVENT
BEGIN:VEVENT
DTSTART;VALUE=DATE:20260413
DTEND;VALUE=DATE:20260417
DTSTAMP:20260421T065505
CREATED:20250715T192540Z
LAST-MODIFIED:20250715T192540Z
UID:10000748-1776038400-1776383999@www.parsons.com
SUMMARY:41st Space Symposium
DESCRIPTION:Overview\nBringing together leaders from commercial\, government and military space from around the world\, the 41st Space Symposium provides a forum to discuss\, address and plan for future achievements in space. In addition\, the Symposium program delivers exclusive networking and engagement opportunities with influential participants in one convenient and extraordinary venue. Join Parsons at the 41st Annual Space Symposium at the Broadmoor in Colorado Springs\, CO on April 13-16\, 2026 to learn more about our capabilities in the space market. \nSpace Symposium Conference & Exhibit Info\nSpace Symposium attendees consistently represent all sectors of the space community. From multiple spacefaring nations\, space agencies; commercial space businesses and associated subcontractors; military\, national security and intelligence organizations; cyber security organizations; federal and state government agencies and organizations; research and development facilities; educational institutions; space entrepreneurs and private space travel providers and more! \n\n\n\nBringing all these groups together in one place provides a unique opportunity to examine space issues from multiple perspectives\, to promote dialog and to focus attention on critical space issues. \nExhibit\nStop by and visit a Parsons Representative in the 41st Annual Space Symposium Exhibit Hall. \nMeet With Us At The Space Symposium\nFill out the form below to set up a meeting with us! \nPlease enable JavaScript in your browser to complete this form.First Name *Last Name *Email *Job Title *Company/Agency *Country *State *Phone NumberHow can we assist you? *I would like to learn more about Parsons products and offerings.I am interested in teaming with Parsons.I would like to present my company capabilities.Other (Please specify below).Anything Additional To Add?SubscribeYes\, subscribe me to our Innovation NewsletterCommentSubmit  \nLearn More\nIn looking to the future\, we’re helping our customers unlock the full potential of space. We combine launch logistics\, satellite operations\, assured position\, navigation\, and timing (PNT)\, domain awareness\, and geospatial intelligence with our industry-leading satellite integration capabilities. To learn more about our space capabilities\, visit our website.
URL:https://www.parsons.com/event/41st-space-symposium/
LOCATION:The Broadmoor\, 1 Lake Avenue\, Colorado Springs\, CO\, 80906\, United States
CATEGORIES:National Security,Space and Geospatial
ATTACH;FMTTYPE=image/jpeg:https://www.parsons.com/wp-content/uploads/2022/07/events_category_images_conference15.jpg
END:VEVENT
END:VCALENDAR