BEGIN:VCALENDAR
VERSION:2.0
PRODID:-//Parsons Corporation - ECPv6.15.13.1//NONSGML v1.0//EN
CALSCALE:GREGORIAN
METHOD:PUBLISH
X-ORIGINAL-URL:https://www.parsons.com
X-WR-CALDESC:Events for Parsons Corporation
REFRESH-INTERVAL;VALUE=DURATION:PT1H
X-Robots-Tag:noindex
X-PUBLISHED-TTL:PT1H
BEGIN:VTIMEZONE
TZID:America/New_York
BEGIN:DAYLIGHT
TZOFFSETFROM:-0500
TZOFFSETTO:-0400
TZNAME:EDT
DTSTART:20250309T070000
END:DAYLIGHT
BEGIN:STANDARD
TZOFFSETFROM:-0400
TZOFFSETTO:-0500
TZNAME:EST
DTSTART:20251102T060000
END:STANDARD
BEGIN:DAYLIGHT
TZOFFSETFROM:-0500
TZOFFSETTO:-0400
TZNAME:EDT
DTSTART:20260308T070000
END:DAYLIGHT
BEGIN:STANDARD
TZOFFSETFROM:-0400
TZOFFSETTO:-0500
TZNAME:EST
DTSTART:20261101T060000
END:STANDARD
BEGIN:DAYLIGHT
TZOFFSETFROM:-0500
TZOFFSETTO:-0400
TZNAME:EDT
DTSTART:20270314T070000
END:DAYLIGHT
BEGIN:STANDARD
TZOFFSETFROM:-0400
TZOFFSETTO:-0500
TZNAME:EST
DTSTART:20271107T060000
END:STANDARD
END:VTIMEZONE
BEGIN:VEVENT
DTSTART;TZID=America/New_York:20260409T083000
DTEND;TZID=America/New_York:20260409T150000
DTSTAMP:20260424T230453
CREATED:20260325T200843Z
LAST-MODIFIED:20260406T154805Z
UID:10000825-1775723400-1775746800@www.parsons.com
SUMMARY:Rail Link Talks
DESCRIPTION:Overview\nJoin us at Rail Link on the 9th of April at Aviva Stadium\, Dublin\, where we will be the Exclusive Talks Sponsors. Don’t miss the opportunity to engage with our experts and join the conversation on the future of Dublin’s infrastructure\, alongside one of the region’s ultimate delivery partners. \nConference & Exhibit Info\nRail Link 2026 brings together rail industry leaders\, innovators\, and professionals for a day of insights and networking at the Aviva Stadium in Dublin. The event features an Executive Morning Briefing with industry talks from 8:30 AM to 11:00 AM\, followed by a free exhibition from 11:00 AM to 3:00 PM where attendees can connect with suppliers\, explore new technologies\, and build relationships across the UK\, Irish\, and European rail sectors. \nSpeakers\nOur PMC and Rail Practice Lead\, Darren McBride\, will present on ‘Delivering Major Urban Rail Programs’ and shed light on some of the industry’s most pressing topics on the future of infrastructure. \nExhibit\nStop by and visit a Parsons representative in the Exhibit Hall. \nLearn More\nWe are supporting Rail Link 2026 as the sponsor of the Rail Link Talks\, helping bring together key discussions on policy\, infrastructure\, technology\, and investment trends shaping the future of rail. Through its involvement\, We are contributing to industry dialogue and innovation while connecting with partners and stakeholders across the rail ecosystem. To learn more about our rail capabilities\, visit our website. \n 
URL:https://www.parsons.com/event/rail-link-talks/
LOCATION:Aviva Stadium\, Lansdowne Road\, Ballsbridge\, Dublin 4\, D04 K5F9\, Ireland\, Dublin\, D04 K5F9\, Ireland
CATEGORIES:EMEA (Europe, Middle East & Africa),Rail and Transit
ATTACH;FMTTYPE=image/jpeg:https://www.parsons.com/wp-content/uploads/2026/03/Rail-Link-2026-Attendance-Card-FINAL-002.jpg
END:VEVENT
BEGIN:VEVENT
DTSTART;VALUE=DATE:20260512
DTEND;VALUE=DATE:20260515
DTSTAMP:20260424T230453
CREATED:20260422T221418Z
LAST-MODIFIED:20260422T221418Z
UID:10000832-1778544000-1778803199@www.parsons.com
SUMMARY:US High Speed Rail Annual Conference 2026
DESCRIPTION:Overview\nThe US High Speed Rail Annual Conference 2026 brings together industry leaders\, policymakers\, and infrastructure experts to advance the future of high-speed rail in the United States. The conference focuses on accelerating project delivery\, driving investment\, and shaping innovative solutions that support a modern\, connected transportation network. \nConference & Exhibit Info\nThis multi-day event features keynote sessions\, panel discussions\, and networking opportunities with leaders across the rail and transportation sectors. Attendees will explore topics such as project delivery models\, funding strategies\, regulatory frameworks\, and emerging technologies that are transforming high-speed rail development. \nExhibit\nStop by and visit a Parsons Representative in the US High Speed Rail Annual Conference Exhibit Hall! \nMeet With Us\nFill out the form below to set up a meeting with us! \nPlease enable JavaScript in your browser to complete this form.First Name *Last Name *Email *Job Title *Company/Agency *Country *State *Phone NumberHow can we assist you? *I would like to learn more about Parsons products and offerings.I am interested in teaming with Parsons.I would like to present my company capabilities.Other (Please specify below).Anything Additional To Add?SubscribeYes\, subscribe me to our Innovation NewsletterCommentSubmit   \nLearn More\nWe’re helping transportation clients advance large-scale rail programs with smarter delivery strategies\, digital solutions\, and a focus on long-term performance. Our teams work across the full project lifecycle to improve efficiency\, reduce risk\, and deliver resilient infrastructure. To learn more about our transportation capabilities\, visit our website.
URL:https://www.parsons.com/event/us-high-speed-rail-annual-conference-2026/
LOCATION:Ronald Reagan Building and International Trade Center\, 1300 Pennsylvania Avenue NW\, Washington\, DC\, 20004\, United States
CATEGORIES:Global Infrastructure,Rail and Transit
ATTACH;FMTTYPE=image/webp:https://www.parsons.com/wp-content/uploads/2022/10/conference.webp
END:VEVENT
END:VCALENDAR