BEGIN:VCALENDAR
VERSION:2.0
PRODID:-//Parsons Corporation - ECPv6.15.13.1//NONSGML v1.0//EN
CALSCALE:GREGORIAN
METHOD:PUBLISH
X-ORIGINAL-URL:https://www.parsons.com
X-WR-CALDESC:Events for Parsons Corporation
REFRESH-INTERVAL;VALUE=DURATION:PT1H
X-Robots-Tag:noindex
X-PUBLISHED-TTL:PT1H
BEGIN:VTIMEZONE
TZID:America/New_York
BEGIN:DAYLIGHT
TZOFFSETFROM:-0500
TZOFFSETTO:-0400
TZNAME:EDT
DTSTART:20250309T070000
END:DAYLIGHT
BEGIN:STANDARD
TZOFFSETFROM:-0400
TZOFFSETTO:-0500
TZNAME:EST
DTSTART:20251102T060000
END:STANDARD
BEGIN:DAYLIGHT
TZOFFSETFROM:-0500
TZOFFSETTO:-0400
TZNAME:EDT
DTSTART:20260308T070000
END:DAYLIGHT
BEGIN:STANDARD
TZOFFSETFROM:-0400
TZOFFSETTO:-0500
TZNAME:EST
DTSTART:20261101T060000
END:STANDARD
BEGIN:DAYLIGHT
TZOFFSETFROM:-0500
TZOFFSETTO:-0400
TZNAME:EDT
DTSTART:20270314T070000
END:DAYLIGHT
BEGIN:STANDARD
TZOFFSETFROM:-0400
TZOFFSETTO:-0500
TZNAME:EST
DTSTART:20271107T060000
END:STANDARD
END:VTIMEZONE
BEGIN:VEVENT
DTSTART;VALUE=DATE:20260601
DTEND;VALUE=DATE:20260604
DTSTAMP:20260424T061230
CREATED:20260423T215646Z
LAST-MODIFIED:20260423T215646Z
UID:10000834-1780272000-1780531199@www.parsons.com
SUMMARY:CCMTA Annual Meeting 2026
DESCRIPTION:Overview\nThe CCMTA Annual Meeting 2026 brings together government leaders\, policymakers\, and industry stakeholders to advance road safety and transportation regulation across Canada. The event focuses on collaboration\, policy development\, and innovation to support safer and more efficient transportation systems nationwide. \nConference & Exhibit Info\nThis annual meeting features presentations\, committee discussions\, and networking opportunities with key decision-makers in transportation and highway safety. Attendees explore topics such as regulatory harmonization\, road safety strategies\, emerging technologies\, and data-driven approaches to improving transportation systems. \nExhibit\nStop by and visit a Parsons Representative in the CCMTA Exhibit Hall! \nMeet With Us\nFill out the form below to set up a meeting with us! \nPlease enable JavaScript in your browser to complete this form.First Name *Last Name *Email *Job Title *Company/Agency *Country *State *Phone NumberHow can we assist you? *I would like to learn more about Parsons products and offerings.I am interested in teaming with Parsons.I would like to present my company capabilities.Other (Please specify below).Anything Additional To Add?SubscribeYes\, subscribe me to our Innovation NewsletterCommentSubmit  \nLearn More\nWe’re helping transportation agencies improve road safety and system performance through data-driven insights\, advanced technologies\, and integrated solutions. Our teams work collaboratively with government partners to deliver safer\, more efficient transportation networks. To learn more about our transportation capabilities\, visit our website.
URL:https://www.parsons.com/event/ccmta-annual-meeting-2026/
LOCATION:Delta Hotels Fredericton\, 225 Woodstock Road\, Fredericton\, New Brunswick\, E3B 2H8\, Canada
CATEGORIES:Canada,Global Infrastructure
ATTACH;FMTTYPE=image/jpeg:https://www.parsons.com/wp-content/uploads/2022/07/events_category_images_conference15.jpg
END:VEVENT
END:VCALENDAR