BEGIN:VCALENDAR
VERSION:2.0
PRODID:-//Parsons Corporation - ECPv6.15.13.1//NONSGML v1.0//EN
CALSCALE:GREGORIAN
METHOD:PUBLISH
X-ORIGINAL-URL:https://www.parsons.com
X-WR-CALDESC:Events for Parsons Corporation
REFRESH-INTERVAL;VALUE=DURATION:PT1H
X-Robots-Tag:noindex
X-PUBLISHED-TTL:PT1H
BEGIN:VTIMEZONE
TZID:America/Los_Angeles
BEGIN:DAYLIGHT
TZOFFSETFROM:-0800
TZOFFSETTO:-0700
TZNAME:PDT
DTSTART:20250309T100000
END:DAYLIGHT
BEGIN:STANDARD
TZOFFSETFROM:-0700
TZOFFSETTO:-0800
TZNAME:PST
DTSTART:20251102T090000
END:STANDARD
BEGIN:DAYLIGHT
TZOFFSETFROM:-0800
TZOFFSETTO:-0700
TZNAME:PDT
DTSTART:20260308T100000
END:DAYLIGHT
BEGIN:STANDARD
TZOFFSETFROM:-0700
TZOFFSETTO:-0800
TZNAME:PST
DTSTART:20261101T090000
END:STANDARD
BEGIN:DAYLIGHT
TZOFFSETFROM:-0800
TZOFFSETTO:-0700
TZNAME:PDT
DTSTART:20270314T100000
END:DAYLIGHT
BEGIN:STANDARD
TZOFFSETFROM:-0700
TZOFFSETTO:-0800
TZNAME:PST
DTSTART:20271107T090000
END:STANDARD
END:VTIMEZONE
BEGIN:VEVENT
DTSTART;VALUE=DATE:20260503
DTEND;VALUE=DATE:20260506
DTSTAMP:20260423T074424
CREATED:20260422T151722Z
LAST-MODIFIED:20260422T152015Z
UID:10000830-1777766400-1778025599@www.parsons.com
SUMMARY:98th Annual AAAE Conference & Exposition
DESCRIPTION:Overview\nThe 98th Annual AAAE Conference & Exposition is one of the aviation industry’s leading events\, bringing together airport executives\, industry experts\, and solution providers from across the globe. The conference focuses on advancing airport operations\, infrastructure\, and innovation while fostering collaboration across the aviation ecosystem. \nConference & Exhibit Info\nThis premier event features educational sessions\, networking opportunities\, and a large exhibit hall showcasing the latest technologies and solutions shaping the future of aviation. Attendees gain insights into airport management\, infrastructure development\, sustainability\, and emerging trends impacting the industry. \nExhibit\nStop by and visit a Parsons Representative in the 98th Annual AAAE Exhibit Hall! \nMeet With Us\nFill out the form below to set up a meeting with us! \nPlease enable JavaScript in your browser to complete this form.First Name *Last Name *Email *Job Title *Company/Agency *Country *State *Phone NumberHow can we assist you? *I would like to learn more about Parsons products and offerings.I am interested in teaming with Parsons.I would like to present my company capabilities.Other (Please specify below).Anything Additional To Add?SubscribeYes\, subscribe me to our Innovation NewsletterPhoneSubmit   \nLearn More\nWe’re helping aviation clients navigate complexity with integrated solutions that improve efficiency\, safety\, and resilience. Our teams deliver innovative approaches across airport infrastructure\, digital transformation\, and operational systems to support the evolving needs of the aviation industry. To learn more about our aviation capabilities\, visit our website.
URL:https://www.parsons.com/event/98th-annual-aaae-conference-exposition/
LOCATION:Los Angeles Convention Center\, 1201 S Figueroa St\, Los Angeles\, CA\, 90015\, United States
CATEGORIES:Aviation
ATTACH;FMTTYPE=image/webp:https://www.parsons.com/wp-content/uploads/2022/10/conference.webp
END:VEVENT
END:VCALENDAR