BEGIN:VCALENDAR
VERSION:2.0
PRODID:-//Parsons Corporation - ECPv6.15.13.1//NONSGML v1.0//EN
CALSCALE:GREGORIAN
METHOD:PUBLISH
X-ORIGINAL-URL:https://www.parsons.com
X-WR-CALDESC:Events for Parsons Corporation
REFRESH-INTERVAL;VALUE=DURATION:PT1H
X-Robots-Tag:noindex
X-PUBLISHED-TTL:PT1H
BEGIN:VTIMEZONE
TZID:America/New_York
BEGIN:DAYLIGHT
TZOFFSETFROM:-0500
TZOFFSETTO:-0400
TZNAME:EDT
DTSTART:20240310T070000
END:DAYLIGHT
BEGIN:STANDARD
TZOFFSETFROM:-0400
TZOFFSETTO:-0500
TZNAME:EST
DTSTART:20241103T060000
END:STANDARD
BEGIN:DAYLIGHT
TZOFFSETFROM:-0500
TZOFFSETTO:-0400
TZNAME:EDT
DTSTART:20250309T070000
END:DAYLIGHT
BEGIN:STANDARD
TZOFFSETFROM:-0400
TZOFFSETTO:-0500
TZNAME:EST
DTSTART:20251102T060000
END:STANDARD
BEGIN:DAYLIGHT
TZOFFSETFROM:-0500
TZOFFSETTO:-0400
TZNAME:EDT
DTSTART:20260308T070000
END:DAYLIGHT
BEGIN:STANDARD
TZOFFSETFROM:-0400
TZOFFSETTO:-0500
TZNAME:EST
DTSTART:20261101T060000
END:STANDARD
END:VTIMEZONE
BEGIN:VEVENT
DTSTART;VALUE=DATE:20251105
DTEND;VALUE=DATE:20251108
DTSTAMP:20260423T123438
CREATED:20251105T144521Z
LAST-MODIFIED:20251105T144533Z
UID:10000774-1762300800-1762559999@www.parsons.com
SUMMARY:DBIA Design-Build Conference & Expo
DESCRIPTION:Overview\nThe Design-Build Conference & Expo is the largest national gathering of the year for the design-build market and the only event centered exclusively on design-build. This event provides unparalleled access to meet decision makers and network with all members of project teams\, including general contractors\, architects\, engineers\, attorneys and finance professionals. \nConference & Exhibit Info\nThe 2025 Design-Build Conference & Expo will feature targeted and timely education across five main session tracks—ranging from innovation and leadership to owner collaboration and emerging industry topics. Held in Pacific Daylight Time\, the program also includes pre-conference workshops\, networking events\, and exhibit hall activities designed to connect and inspire design-build professionals. \nExhibit\nStop by and visit a Parsons Representative at our Booth! \nLearn More\nWe’re global leaders in alternative project delivery\, turning complex challenges into innovative\, high-performing solutions across Design-Build\, Progressive Design-Build\, Public-Private Partnerships (P3s)\, and Delivery Partner methodologies. We integrate in-house design\, engineering\, and construction capabilities with innovative tools and sustainable practices to deliver complex projects efficiently and cost-effectively. Through collaborative partnerships and early contractor involvement\, we optimize risk\, ensure on-time delivery\, and achieve high-quality outcomes across transportation\, infrastructure\, defense\, energy\, and water sectors. Learn more.
URL:https://www.parsons.com/event/dbia-design-build-conference-expo/
LOCATION:MGM Grand\, Las Vegas\, 3799 S Las Vegas Blvd\, Las Vegas\, NV\, 89109\, United States
ATTACH;FMTTYPE=image/webp:https://www.parsons.com/wp-content/uploads/2022/10/conference.webp
END:VEVENT
END:VCALENDAR